BEGIN:VCALENDAR
VERSION:2.0
PRODID:-//Squarespace Inc/Squarespace 6//v6//EN
BEGIN:VEVENT
UID:5f4d6817dbf25f52b05aba48@squarespace.com
DTSTAMP:20200910T093943Z
DTSTART:20201107T073000Z
DTEND:20201107T081500Z
SUMMARY:Writing from the diaspora
GEO:-41.293373;174.775443
LOCATION:Enjoy Gallery\, 211 Left Bank\, Cuba St\, Te Aro\, Wellington
END:VEVENT
END:VCALENDAR
