BEGIN:VCALENDAR
VERSION:2.0
PRODID:-//Squarespace Inc/Squarespace 6//v6//EN
BEGIN:VEVENT
UID:5f4d6d3912b71825fe88274f@squarespace.com
DTSTAMP:20200910T094000Z
DTSTART:20201107T073000Z
DTEND:20201107T081500Z
SUMMARY:This is not how it ends
GEO:-41.293871;174.776836
LOCATION:Bicycle Junction\, 1 Marion Street\, Wellington\, Wellington\, 601
 1\, New Zealand
END:VEVENT
END:VCALENDAR
