BEGIN:VCALENDAR
VERSION:2.0
PRODID:-//Squarespace Inc/Squarespace 6//v6//EN
BEGIN:VEVENT
UID:5f446701cff67d327287cc2c@squarespace.com
DTSTAMP:20200910T094928Z
DTSTART:20201108T040000Z
DTEND:20201108T050000Z
SUMMARY:The Unicorn
GEO:-41.293517;174.781134
LOCATION:The Library Bar\, 45 Tory Street\, Wellington\, 6011\, New Zealand
END:VEVENT
END:VCALENDAR
