BEGIN:VCALENDAR
VERSION:2.0
PRODID:-//Squarespace Inc/Squarespace 6//v6//EN
BEGIN:VEVENT
UID:5f4c30c3184e171b10f6462c@squarespace.com
DTSTAMP:20200913T082858Z
DTSTART:20201107T061500Z
DTEND:20201107T070000Z
SUMMARY:Sweet Mammalian
GEO:-41.2942;174.775375
LOCATION:Ferret Bookshop\, 175 Cuba Street\, Wellington\, Wellington\, 6011
 \, New Zealand
END:VEVENT
END:VCALENDAR
