BEGIN:VCALENDAR
VERSION:2.0
PRODID:-//Squarespace Inc/Squarespace 6//v6//EN
BEGIN:VEVENT
UID:5f4d6f51f062bc5d5ba4f678@squarespace.com
DTSTAMP:20200916T225008Z
DTSTART:20201107T073000Z
DTEND:20201107T081500Z
SUMMARY:Stasis Poetry Party
GEO:-41.293871;174.776836
LOCATION:Hashigo Zake\, 25 Taranaki St\, Wellington\, Wellington\, 6011\, N
 ew Zealand
END:VEVENT
END:VCALENDAR
