BEGIN:VCALENDAR
VERSION:2.0
PRODID:-//Squarespace Inc/Squarespace 6//v6//EN
BEGIN:VEVENT
UID:5f4c1d8c29cfe63ea867c2fc@squarespace.com
DTSTAMP:20201014T205405Z
DTSTART:20201107T061500Z
DTEND:20201107T070000Z
SUMMARY:Starling Turns Ten
GEO:-41.29165;174.779554
LOCATION:Hashigo Zake\, 25 Taranaki Street\, Wellington\, Wellington\, 6011
 \, New Zealand
END:VEVENT
END:VCALENDAR
