BEGIN:VCALENDAR
VERSION:2.0
PRODID:-//Squarespace Inc/Squarespace 6//v6//EN
BEGIN:VEVENT
UID:5f45d5e8f5e5f93a31a085e6@squarespace.com
DTSTAMP:20200912T092025Z
DTSTART:20201107T210000Z
DTEND:20201107T220000Z
SUMMARY:Spontaneous Storytelling Workshop for Families
GEO:-41.314122;174.764152
LOCATION:Vogelmorn Bowling Club\, 93 Mornington Road\, Wellington\, Welling
 ton\, 6021\, New Zealand
END:VEVENT
END:VCALENDAR
