BEGIN:VCALENDAR
VERSION:2.0
PRODID:-//Squarespace Inc/Squarespace 6//v6//EN
BEGIN:VEVENT
UID:5f4d71d8e21d1f41625a119f@squarespace.com
DTSTAMP:20201106T203401Z
DTSTART:20201107T073000Z
DTEND:20201107T081500Z
SUMMARY:Songwriters
GEO:-41.295229;174.774785
LOCATION:Alistair's Music\, 215 Cuba Street\, Wellington\, Wellington\, 601
 1\, New Zealand
END:VEVENT
END:VCALENDAR
