BEGIN:VCALENDAR
VERSION:2.0
PRODID:-//Squarespace Inc/Squarespace 6//v6//EN
BEGIN:VEVENT
UID:5f4c3284f0feca27411ca875@squarespace.com
DTSTAMP:20201030T081301Z
DTSTART:20201107T061500Z
DTEND:20201107T070000Z
SUMMARY:So Sick of Love Songs
GEO:-41.291499;174.777033
LOCATION:Arty Bees\, 106 Manners Street\, Wellington\, Wellington\, 6011\, 
 New Zealand
END:VEVENT
END:VCALENDAR
