BEGIN:VCALENDAR
VERSION:2.0
PRODID:-//Squarespace Inc/Squarespace 6//v6//EN
BEGIN:VEVENT
UID:5f4d7261e067fb78195a76e9@squarespace.com
DTSTAMP:20200916T033059Z
DTSTART:20201107T073000Z
DTEND:20201107T081500Z
SUMMARY:Saying it out loud
GEO:-41.292286;174.773319
LOCATION:St Peter's\, 211 Willis Street\, Wellington\, Wellington\, 6011\, 
 New Zealand
END:VEVENT
END:VCALENDAR
