BEGIN:VCALENDAR
VERSION:2.0
PRODID:-//Squarespace Inc/Squarespace 6//v6//EN
BEGIN:VEVENT
UID:5f45d12b815721382279e789@squarespace.com
DTSTAMP:20200916T071254Z
DTSTART:20201107T220000Z
DTEND:20201108T000000Z
SUMMARY:Play with your words: with Airini Beautrais
GEO:-41.288748;174.777153
LOCATION:City Gallery Wellington\, Wellington\, 6011\, New Zealand
END:VEVENT
END:VCALENDAR
