BEGIN:VCALENDAR
VERSION:2.0
PRODID:-//Squarespace Inc/Squarespace 6//v6//EN
BEGIN:VEVENT
UID:5f444b794de0e201344d04f4@squarespace.com
DTSTAMP:20200916T071509Z
DTSTART:20201108T010000Z
DTEND:20201108T020000Z
SUMMARY:Nothing to See: Pip Adam
GEO:-41.290541;174.774552
LOCATION:Meow\, 9 Edward Street\, Wellington\, Wellington\, 6011\, New Zeal
 and
END:VEVENT
END:VCALENDAR
