BEGIN:VCALENDAR
VERSION:2.0
PRODID:-//Squarespace Inc/Squarespace 6//v6//EN
BEGIN:VEVENT
UID:5f444275c3b8df21246154b5@squarespace.com
DTSTAMP:20200916T071311Z
DTSTART:20201107T220000Z
DTEND:20201107T230000Z
SUMMARY:Not that I’d Kiss a Girl: Lil O’Brien
GEO:-41.290541;174.774552
LOCATION:Meow\, 9 Edward Street\, Wellington\, Wellington\, 6011\, New Zeal
 and
END:VEVENT
END:VCALENDAR
