BEGIN:VCALENDAR
VERSION:2.0
PRODID:-//Squarespace Inc/Squarespace 6//v6//EN
BEGIN:VEVENT
UID:5f45c95847206033d5041e5b@squarespace.com
DTSTAMP:20200916T071603Z
DTSTART:20201108T060000Z
DTEND:20201108T071500Z
SUMMARY:Ngā Hau e Whā | The Four Winds
GEO:-41.290541;174.774552
LOCATION:Meow\, 9 Edward Street\, Wellington\, Wellington\, 6011\, New Zeal
 and
END:VEVENT
END:VCALENDAR
