BEGIN:VCALENDAR
VERSION:2.0
PRODID:-//Squarespace Inc/Squarespace 6//v6//EN
BEGIN:VEVENT
UID:5f477423a77c7c7c5a238597@squarespace.com
DTSTAMP:20201012T054337Z
DTSTART:20201108T000000Z
DTEND:20201108T040000Z
SUMMARY:Newtown Sunday Stroll
GEO:-41.312364;174.779414
LOCATION:Multi Venues on Riddiford St\, Newtown\, Riddiford Street\, Wellin
 gton\, Wellington\, 6021\, New Zealand
END:VEVENT
END:VCALENDAR
