BEGIN:VCALENDAR
VERSION:2.0
PRODID:-//Squarespace Inc/Squarespace 6//v6//EN
BEGIN:VEVENT
UID:5f45d469ac873c4bc48bdc18@squarespace.com
DTSTAMP:20200916T071449Z
DTSTART:20201108T010000Z
DTEND:20201108T023000Z
SUMMARY:Movement &amp\; Poetry: with Rata Gordon
GEO:-41.314122;174.764152
LOCATION:Vogelmorn Bowling Club\, 93 Mornington Road\, Wellington\, Welling
 ton\, 6021\, New Zealand
END:VEVENT
END:VCALENDAR
