BEGIN:VCALENDAR
VERSION:2.0
PRODID:-//Squarespace Inc/Squarespace 6//v6//EN
BEGIN:VEVENT
UID:5f5a024b8c024b4d4af508a3@squarespace.com
DTSTAMP:20200913T083837Z
DTSTART:20201107T050000Z
DTEND:20201107T081500Z
SUMMARY:LitCrawl 2020
GEO:0.0;0.0
LOCATION:Wellington\, New Zealand
END:VEVENT
END:VCALENDAR
