BEGIN:VCALENDAR
VERSION:2.0
PRODID:-//Squarespace Inc/Squarespace 6//v6//EN
BEGIN:VEVENT
UID:5f4d735e9522fc44a6d3de3d@squarespace.com
DTSTAMP:20201106T211619Z
DTSTART:20201107T083000Z
DTEND:20201107T130000Z
SUMMARY:LitCrawl After Party
GEO:-41.290541;174.774552
LOCATION:Meow\, 9 Edward Street\, Wellington\, Wellington\, 6011\, New Zeal
 and
END:VEVENT
END:VCALENDAR
