BEGIN:VCALENDAR
VERSION:2.0
PRODID:-//Squarespace Inc/Squarespace 6//v6//EN
BEGIN:VEVENT
UID:5f4c35fa184e171b10f6e330@squarespace.com
DTSTAMP:20200916T071203Z
DTSTART:20201107T061500Z
DTEND:20201107T070000Z
SUMMARY:Lie Down &amp\; Listen: Death Salon
GEO:-41.293957;174.77582
LOCATION:Iyengar Yoga Studio\, 6 Swan Lane\, Wellington\, Wellington\, 6011
 \, New Zealand
END:VEVENT
END:VCALENDAR
