BEGIN:VCALENDAR
VERSION:2.0
PRODID:-//Squarespace Inc/Squarespace 6//v6//EN
BEGIN:VEVENT
UID:5f4c25b72d7a7777df5705f7@squarespace.com
DTSTAMP:20200910T093613Z
DTSTART:20201107T061500Z
DTEND:20201107T070000Z
SUMMARY:How to have an opinion
GEO:-41.293871;174.776836
LOCATION:Bicycle Junction\, 1 Marion Street\, Wellington\, Wellington\, 601
 1\, New Zealand
END:VEVENT
END:VCALENDAR
