BEGIN:VCALENDAR
VERSION:2.0
PRODID:-//Squarespace Inc/Squarespace 6//v6//EN
BEGIN:VEVENT
UID:5f484ca6c20a1b19bafcee8d@squarespace.com
DTSTAMP:20201106T203105Z
DTSTART:20201107T050000Z
DTEND:20201107T054500Z
SUMMARY:High Wire: Lloyd Jones
GEO:-41.293957;174.77582
LOCATION:Iyengar Yoga Studio\, 6 Swan Lane\, Wellington\, Wellington\, 6011
 \, New Zealand
END:VEVENT
END:VCALENDAR
