BEGIN:VCALENDAR
VERSION:2.0
PRODID:-//Squarespace Inc/Squarespace 6//v6//EN
BEGIN:VEVENT
UID:5f4d5f5394671c26599d2541@squarespace.com
DTSTAMP:20201013T074012Z
DTSTART:20201107T073000Z
DTEND:20201107T081500Z
SUMMARY:Fear Factor: Come into my Snake Box
GEO:-41.293754;174.775841
LOCATION:Pegasus Books\, Cuba Mall\, Wellington\, Wellington\, 6011\, New Z
 ealand
END:VEVENT
END:VCALENDAR
