BEGIN:VCALENDAR
VERSION:2.0
PRODID:-//Squarespace Inc/Squarespace 6//v6//EN
BEGIN:VEVENT
UID:5f4c20b014aac00fb010e37a@squarespace.com
DTSTAMP:20200916T225904Z
DTSTART:20201107T061500Z
DTEND:20201107T070000Z
SUMMARY:Creating Chaos
GEO:-41.291499;174.777033
LOCATION:Bowen Galleries\, 39 Ghuznee Street\, Wellington\, Wellington\, 60
 11\, New Zealand
END:VEVENT
END:VCALENDAR
