BEGIN:VCALENDAR
VERSION:2.0
PRODID:-//Squarespace Inc/Squarespace 6//v6//EN
BEGIN:VEVENT
UID:5f4d620b0822167be8d657ee@squarespace.com
DTSTAMP:20201013T062344Z
DTSTART:20201107T073000Z
DTEND:20201107T081500Z
SUMMARY:Compound Press Fest
GEO:-41.293373;174.775443
LOCATION:Hunters & Collectors\, 134 Cuba Street\, Wellington\, Wellington\, 
 6011\, New Zealand
END:VEVENT
END:VCALENDAR
