BEGIN:VCALENDAR
VERSION:2.0
PRODID:-//Squarespace Inc/Squarespace 6//v6//EN
BEGIN:VEVENT
UID:5f444ef2767067360c6b0d9d@squarespace.com
DTSTAMP:20200916T071525Z
DTSTART:20201108T023000Z
DTEND:20201108T033000Z
SUMMARY:Sprigs: Brannavan Gnanalingam
GEO:-41.290541;174.774552
LOCATION:Meow\, 9 Edward Street\, Wellington\, Wellington\, 6011\, New Zeal
 and
END:VEVENT
END:VCALENDAR
