BEGIN:VCALENDAR
VERSION:2.0
PRODID:-//Squarespace Inc/Squarespace 6//v6//EN
BEGIN:VEVENT
UID:5f444a3ce69bfd579525ba78@squarespace.com
DTSTAMP:20200916T071328Z
DTSTART:20201107T233000Z
DTEND:20201108T003000Z
SUMMARY:Wow: Bill Manhire
GEO:-41.290541;174.774552
LOCATION:Meow\, 9 Edward Street\, Wellington\, Wellington\, 6011\, New Zeal
 and
END:VEVENT
END:VCALENDAR
