BEGIN:VCALENDAR
VERSION:2.0
PRODID:-//Squarespace Inc/Squarespace 6//v6//EN
BEGIN:VEVENT
UID:5f445379cfc991796d13e964@squarespace.com
DTSTAMP:20200916T071547Z
DTSTART:20201108T040000Z
DTEND:20201108T050000Z
SUMMARY:Behrouz Boochani: In Aotearoa
GEO:-41.290541;174.774552
LOCATION:Meow\, 9 Edward Street\, Wellington\, Wellington\, 6011\, New Zeal
 and
END:VEVENT
END:VCALENDAR
