BEGIN:VCALENDAR
VERSION:2.0
PRODID:-//Squarespace Inc/Squarespace 6//v6//EN
BEGIN:VEVENT
UID:5f4c39b40f239b75b2bda10c@squarespace.com
DTSTAMP:20200917T232803Z
DTSTART:20201107T061500Z
DTEND:20201107T070000Z
SUMMARY:Bad Diaries Salon #Play
GEO:-41.290541;174.774552
LOCATION:Meow\, 9 Edward Street\, Wellington\, Wellington\, 6011\, New Zeal
 and
END:VEVENT
END:VCALENDAR
