BEGIN:VCALENDAR
VERSION:2.0
PRODID:-//Squarespace Inc/Squarespace 6//v6//EN
BEGIN:VEVENT
UID:5f5be36b99821b32083aa7ed@squarespace.com
DTSTAMP:20200913T015926Z
DTSTART:20201107T061500Z
DTEND:20201107T070000Z
SUMMARY:Am I A Human Being
GEO:-41.294517;174.774878
LOCATION:S & M's\, 176 Cuba Street\, Wellington\, Wellington\, 6011\, New Z
 ealand
END:VEVENT
END:VCALENDAR
