BEGIN:VCALENDAR
VERSION:2.0
PRODID:-//Squarespace Inc/Squarespace 6//v6//EN
BEGIN:VEVENT
UID:5d5a11a96b419900019b87ee@squarespace.com
DTSTAMP:20191108T010011Z
DTSTART:20191110T053000Z
DTEND:20191110T070000Z
SUMMARY:Shared Dinner with Rose &amp\; Nina
GEO:-41.291626;174.775913
LOCATION:Te Auaha\, Atea (Bar Area)
END:VEVENT
END:VCALENDAR
