BEGIN:VCALENDAR
VERSION:2.0
PRODID:-//Squarespace Inc/Squarespace 6//v6//EN
BEGIN:VEVENT
UID:5d5a0c32596f740001d40bb0@squarespace.com
DTSTAMP:20190904T203326Z
DTSTART:20191108T220000Z
DTEND:20191108T230000Z
SUMMARY:By the Stars: Writing Place
GEO:-41.291626;174.775913
LOCATION:Te Auaha\, Tapere Iti\, 65 Dixon St\, Wellington
END:VEVENT
END:VCALENDAR
